BEGIN:VCALENDAR
VERSION:2.0
PRODID:-//Souvenir Avanti - ECPv6.15.6//NONSGML v1.0//EN
CALSCALE:GREGORIAN
METHOD:PUBLISH
X-ORIGINAL-URL:http://www.souveniravanti.com
X-WR-CALDESC:Events for Souvenir Avanti
REFRESH-INTERVAL;VALUE=DURATION:PT1H
X-Robots-Tag:noindex
X-PUBLISHED-TTL:PT1H
BEGIN:VTIMEZONE
TZID:UTC
BEGIN:STANDARD
TZOFFSETFROM:+0000
TZOFFSETTO:+0000
TZNAME:UTC
DTSTART:20160101T000000
END:STANDARD
END:VTIMEZONE
BEGIN:VTIMEZONE
TZID:America/Los_Angeles
BEGIN:DAYLIGHT
TZOFFSETFROM:-0800
TZOFFSETTO:-0700
TZNAME:PDT
DTSTART:20160313T100000
END:DAYLIGHT
BEGIN:STANDARD
TZOFFSETFROM:-0700
TZOFFSETTO:-0800
TZNAME:PST
DTSTART:20161106T090000
END:STANDARD
BEGIN:DAYLIGHT
TZOFFSETFROM:-0800
TZOFFSETTO:-0700
TZNAME:PDT
DTSTART:20170312T100000
END:DAYLIGHT
BEGIN:STANDARD
TZOFFSETFROM:-0700
TZOFFSETTO:-0800
TZNAME:PST
DTSTART:20171105T090000
END:STANDARD
BEGIN:DAYLIGHT
TZOFFSETFROM:-0800
TZOFFSETTO:-0700
TZNAME:PDT
DTSTART:20180311T100000
END:DAYLIGHT
BEGIN:STANDARD
TZOFFSETFROM:-0700
TZOFFSETTO:-0800
TZNAME:PST
DTSTART:20181104T090000
END:STANDARD
END:VTIMEZONE
BEGIN:VEVENT
DTSTART;TZID=UTC:20171101T090000
DTEND;TZID=UTC:20171104T150000
DTSTAMP:20260420T093318
CREATED:20170911T205121Z
LAST-MODIFIED:20201110T055449Z
UID:962-1509526800-1509807600@www.souveniravanti.com
SUMMARY:Smokey Mountain Gift Show
DESCRIPTION:Make sure to visit our booth (#1305) to see our new 2017 – 2018 Souvenir Collection\, including our new Gioia Mia Line!
URL:http://www.souveniravanti.com/event/smokey-mountain-gift-show
LOCATION:Gatlinburg Convention Center\, 234 Historic Nature Trail\, Gatlinburg\, TN\, 37738\, United States
CATEGORIES:Trade Shows
END:VEVENT
BEGIN:VEVENT
DTSTART;TZID=America/Los_Angeles:20170913T090000
DTEND;TZID=America/Los_Angeles:20170916T170000
DTSTAMP:20260420T093318
CREATED:20170905T142254Z
LAST-MODIFIED:20201110T055523Z
UID:801-1505293200-1505581200@www.souveniravanti.com
SUMMARY:Las Vegas Gift & Souvenir Show
DESCRIPTION:Come to our booth!!! #1657
URL:http://www.souveniravanti.com/event/las-vegas-gift-souvenir-show
LOCATION:Las Vegas Convention Center\, 3150 Paradise Rd\, Las Vegas\, Nevada\, 89109
CATEGORIES:Trade Shows
END:VEVENT
END:VCALENDAR